BEGIN:VCALENDAR
VERSION:2.0
PRODID:-//Euroband Rotterdam - ECPv6.15.20//NONSGML v1.0//EN
CALSCALE:GREGORIAN
METHOD:PUBLISH
X-WR-CALNAME:Euroband Rotterdam
X-ORIGINAL-URL:https://www.euroband.nl
X-WR-CALDESC:Evenementen voor Euroband Rotterdam
REFRESH-INTERVAL;VALUE=DURATION:PT1H
X-Robots-Tag:noindex
X-PUBLISHED-TTL:PT1H
BEGIN:VTIMEZONE
TZID:UTC
BEGIN:STANDARD
TZOFFSETFROM:+0000
TZOFFSETTO:+0000
TZNAME:UTC
DTSTART:20250101T000000
END:STANDARD
END:VTIMEZONE
BEGIN:VEVENT
DTSTART;TZID=UTC:20260505T190000
DTEND;TZID=UTC:20260505T220000
DTSTAMP:20260422T020942
CREATED:20251208T130443Z
LAST-MODIFIED:20251208T130443Z
UID:1668-1778007600-1778018400@www.euroband.nl
SUMMARY:Vlaardingen - SHOW & MARCHINGBAND
DESCRIPTION:SMB: avond taptoe in Vlaardingen op Bevrijdingsdag 5 mei 2026\n\nDetails volgen t.z.t.
URL:https://www.euroband.nl/agenda/vlaardingen-show-marchingband/
CATEGORIES:SMB
END:VEVENT
BEGIN:VEVENT
DTSTART;TZID=UTC:20260529T183000
DTEND;TZID=UTC:20260529T213000
DTSTAMP:20260422T020942
CREATED:20250219T143326Z
LAST-MODIFIED:20250219T143354Z
UID:1526-1780079400-1780090200@www.euroband.nl
SUMMARY:'s-Gravenzande- SHOW & MARCHINGBAND
DESCRIPTION:SMB: Muzikale medewerking avond4daagse
URL:https://www.euroband.nl/agenda/s-gravenzande-show-marchingband/
CATEGORIES:SMB
END:VEVENT
END:VCALENDAR